BEGIN:VCALENDAR
VERSION:2.0
PRODID:-//Port Ann Wesleyan Church - ECPv6.15.1.1//NONSGML v1.0//EN
CALSCALE:GREGORIAN
METHOD:PUBLISH
X-WR-CALNAME:Port Ann Wesleyan Church
X-ORIGINAL-URL:https://www.pawchurch.com
X-WR-CALDESC:Events for Port Ann Wesleyan Church
REFRESH-INTERVAL;VALUE=DURATION:PT1H
X-Robots-Tag:noindex
X-PUBLISHED-TTL:PT1H
BEGIN:VTIMEZONE
TZID:UTC
BEGIN:STANDARD
TZOFFSETFROM:+0000
TZOFFSETTO:+0000
TZNAME:UTC
DTSTART:20230101T000000
END:STANDARD
END:VTIMEZONE
BEGIN:VEVENT
DTSTART;TZID=UTC:20230813T090000
DTEND;TZID=UTC:20230813T094500
DTSTAMP:20260424T014712
CREATED:20230809T164746Z
LAST-MODIFIED:20230809T164748Z
UID:4651-1691917200-1691919900@www.pawchurch.com
SUMMARY:Sunday School
DESCRIPTION:Sunday School classes for adults\, teens and kids. Come learn more about God’s Word as we study together.
URL:https://www.pawchurch.com/event/sunday-school/
END:VEVENT
BEGIN:VEVENT
DTSTART;TZID=UTC:20230810T170000
DTEND;TZID=UTC:20230810T190000
DTSTAMP:20260424T014712
CREATED:20230809T164530Z
LAST-MODIFIED:20230809T164532Z
UID:4649-1691686800-1691694000@www.pawchurch.com
SUMMARY:Middleburg Parade
DESCRIPTION:Come check out our float in the community fireman’s parade. We’ll have candy\, a cool gift and info on joining our Family of God!
URL:https://www.pawchurch.com/event/middleburg-parade/
END:VEVENT
BEGIN:VEVENT
DTSTART;TZID=UTC:20230809T190000
DTEND;TZID=UTC:20230809T201500
DTSTAMP:20260424T014712
CREATED:20230808T023400Z
LAST-MODIFIED:20230809T165222Z
UID:4625-1691607600-1691612100@www.pawchurch.com
SUMMARY:Youth group
DESCRIPTION:Our weekly youth group is open to any young person in seventh grade and up.
URL:https://www.pawchurch.com/event/youth-group/
LOCATION:Port Ann Wesleyan Church\, 2856 Troxelville Road\, Middleburg\, Pennsylvania\, 17842\, United States
ATTACH;FMTTYPE=image/jpeg:https://www.pawchurch.com/wp-content/uploads/2023/08/PAWYouthLogoBlue.jpg
END:VEVENT
END:VCALENDAR