BEGIN:VCALENDAR
VERSION:2.0
PRODID:-//Port Ann Wesleyan Church - ECPv6.15.1.1//NONSGML v1.0//EN
CALSCALE:GREGORIAN
METHOD:PUBLISH
X-ORIGINAL-URL:https://www.pawchurch.com
X-WR-CALDESC:Events for Port Ann Wesleyan Church
REFRESH-INTERVAL;VALUE=DURATION:PT1H
X-Robots-Tag:noindex
X-PUBLISHED-TTL:PT1H
BEGIN:VTIMEZONE
TZID:UTC
BEGIN:STANDARD
TZOFFSETFROM:+0000
TZOFFSETTO:+0000
TZNAME:UTC
DTSTART:20230101T000000
END:STANDARD
END:VTIMEZONE
BEGIN:VEVENT
DTSTART;TZID=UTC:20230923T130000
DTEND;TZID=UTC:20230923T180000
DTSTAMP:20260424T000937
CREATED:20230904T024213Z
LAST-MODIFIED:20230904T024215Z
UID:4936-1695474000-1695492000@www.pawchurch.com
SUMMARY:Together Triumphant Youth Rally
DESCRIPTION:A youth rally designed for teens in 7th to 12th grade focused on lifting each other up through an afternoon of 3 vs 3 tournaments and other competitions along with live music and food. Learn more in the attached photo flyer. At Port Ann Wesleyan Church\, 2856 Troxelville Rd\, Middleburg\, PA. Register here: https://forms.gle/LTPu3CNDCTg9z2NHA
URL:https://www.pawchurch.com/event/together-triumphant-youth-rally/
ATTACH;FMTTYPE=image/jpeg:https://www.pawchurch.com/wp-content/uploads/2023/09/371972280_250326380724018_6955537244989715416_n.jpg
END:VEVENT
BEGIN:VEVENT
DTSTART;TZID=UTC:20230915T000000
DTEND;TZID=UTC:20230917T235959
DTSTAMP:20260424T000937
CREATED:20230904T023858Z
LAST-MODIFIED:20230904T023900Z
UID:4933-1694736000-1694995199@www.pawchurch.com
SUMMARY:District Wesleyan Men's Retreat
DESCRIPTION:A full weekend retreat at 100 Newtonburg Rd\, Mahaffey\, PA\, men and boys of the Wesleyan church will gather for worship\, fellowship and some friendly competition.
URL:https://www.pawchurch.com/event/district-wesleyan-mens-retreat/
ATTACH;FMTTYPE=image/jpeg:https://www.pawchurch.com/wp-content/uploads/2023/09/372824974_669430485152160_4406481536490973326_n.jpg
END:VEVENT
BEGIN:VEVENT
DTSTART;TZID=UTC:20230908T180000
DTEND;TZID=UTC:20230908T200000
DTSTAMP:20260424T000937
CREATED:20230904T023510Z
LAST-MODIFIED:20230904T023512Z
UID:4930-1694196000-1694203200@www.pawchurch.com
SUMMARY:Ladies picnic
DESCRIPTION:Our ladies ministry is planning a picnic at Tall Timbers. More info is available at the information podium at the church.
URL:https://www.pawchurch.com/event/ladies-picnic/
ATTACH;FMTTYPE=image/jpeg:https://www.pawchurch.com/wp-content/uploads/2023/09/372949956_997655234824789_4609523601564422299_n.jpg
END:VEVENT
BEGIN:VEVENT
DTSTART;TZID=UTC:20230906T190000
DTEND;TZID=UTC:20230906T201500
DTSTAMP:20260424T000937
CREATED:20230904T023159Z
LAST-MODIFIED:20230904T023201Z
UID:4927-1694026800-1694031300@www.pawchurch.com
SUMMARY:PAW Adult Bible Study
DESCRIPTION:Each Wednesday during the month of September\, adults will meet in the sanctuary for a bible study titled “True or False: Is it in the Bible?”
URL:https://www.pawchurch.com/event/paw-adult-bible-study/
ATTACH;FMTTYPE=image/jpeg:https://www.pawchurch.com/wp-content/uploads/2023/09/372848166_849572269602560_6003246239631029997_n.jpg
END:VEVENT
BEGIN:VEVENT
DTSTART;TZID=UTC:20230906T190000
DTEND;TZID=UTC:20230906T201500
DTSTAMP:20260424T000937
CREATED:20230904T022945Z
LAST-MODIFIED:20230904T022947Z
UID:4925-1694026800-1694031300@www.pawchurch.com
SUMMARY:PAW Youth Group
DESCRIPTION:Our youth group\, for those in grades 7th to 12th grades\, meets in the youth room each Wednesday at 7 p.m.
URL:https://www.pawchurch.com/event/paw-youth-group/
END:VEVENT
BEGIN:VEVENT
DTSTART;TZID=UTC:20230906T184500
DTEND;TZID=UTC:20230906T201500
DTSTAMP:20260424T000937
CREATED:20230904T024528Z
LAST-MODIFIED:20230904T024530Z
UID:4939-1694025900-1694031300@www.pawchurch.com
SUMMARY:PAW AWANA kids ministry
DESCRIPTION:Our weekly kids ministry event\, AWANA is a fun time of learning about God and His Word. Songs\, games and lessons in a fun environment. At Port Ann Wesleyan Church’s Fellowship Hall.
URL:https://www.pawchurch.com/event/paw-awana-kids-ministry/
END:VEVENT
BEGIN:VEVENT
DTSTART;TZID=UTC:20230906T180000
DTEND;TZID=UTC:20230906T184500
DTSTAMP:20260424T000937
CREATED:20230904T022411Z
LAST-MODIFIED:20230904T022414Z
UID:4920-1694023200-1694025900@www.pawchurch.com
SUMMARY:Light family meal before separate ministries
DESCRIPTION:Each Wednesday during the month of September\, we will have a light meal together as a family before everyone breaks up into AWANA\, youth and adult ministries.
URL:https://www.pawchurch.com/event/light-family-meal-before-separate-ministries/
ATTACH;FMTTYPE=image/jpeg:https://www.pawchurch.com/wp-content/uploads/2023/09/372303803_529801572636699_8864400258348424536_n.jpg
END:VEVENT
BEGIN:VEVENT
DTSTART;TZID=UTC:20230818T190000
DTEND;TZID=UTC:20230818T210000
DTSTAMP:20260424T000937
CREATED:20230809T165647Z
LAST-MODIFIED:20230809T165649Z
UID:4659-1692385200-1692392400@www.pawchurch.com
SUMMARY:Free Community Pool Night
DESCRIPTION:Port Ann Wesleyan has rented the Middleburg Community Pool and is inviting everyone to join us for a free swim night. Meet our new pastor (Brandon Kuhns) and his family.
URL:https://www.pawchurch.com/event/free-community-pool-night/
END:VEVENT
BEGIN:VEVENT
DTSTART;TZID=UTC:20230816T190000
DTEND;TZID=UTC:20230816T201500
DTSTAMP:20260424T000937
CREATED:20230809T165336Z
LAST-MODIFIED:20230809T165338Z
UID:4657-1692212400-1692216900@www.pawchurch.com
SUMMARY:Youth group
DESCRIPTION:Our weekly youth group is open to any young person in seventh grade or up.
URL:https://www.pawchurch.com/event/youth-group-2/
END:VEVENT
BEGIN:VEVENT
DTSTART;TZID=UTC:20230813T100000
DTEND;TZID=UTC:20230813T111500
DTSTAMP:20260424T000937
CREATED:20230809T164926Z
LAST-MODIFIED:20230809T164928Z
UID:4653-1691920800-1691925300@www.pawchurch.com
SUMMARY:Sunday service
DESCRIPTION:Come worship God with our family and check out the next sermon from Pastor Brandon Kuhns.
URL:https://www.pawchurch.com/event/sunday-service/
END:VEVENT
BEGIN:VEVENT
DTSTART;TZID=UTC:20230813T090000
DTEND;TZID=UTC:20230813T094500
DTSTAMP:20260424T000937
CREATED:20230809T164746Z
LAST-MODIFIED:20230809T164748Z
UID:4651-1691917200-1691919900@www.pawchurch.com
SUMMARY:Sunday School
DESCRIPTION:Sunday School classes for adults\, teens and kids. Come learn more about God’s Word as we study together.
URL:https://www.pawchurch.com/event/sunday-school/
END:VEVENT
BEGIN:VEVENT
DTSTART;TZID=UTC:20230810T170000
DTEND;TZID=UTC:20230810T190000
DTSTAMP:20260424T000937
CREATED:20230809T164530Z
LAST-MODIFIED:20230809T164532Z
UID:4649-1691686800-1691694000@www.pawchurch.com
SUMMARY:Middleburg Parade
DESCRIPTION:Come check out our float in the community fireman’s parade. We’ll have candy\, a cool gift and info on joining our Family of God!
URL:https://www.pawchurch.com/event/middleburg-parade/
END:VEVENT
BEGIN:VEVENT
DTSTART;TZID=UTC:20230809T190000
DTEND;TZID=UTC:20230809T201500
DTSTAMP:20260424T000937
CREATED:20230808T023400Z
LAST-MODIFIED:20230809T165222Z
UID:4625-1691607600-1691612100@www.pawchurch.com
SUMMARY:Youth group
DESCRIPTION:Our weekly youth group is open to any young person in seventh grade and up.
URL:https://www.pawchurch.com/event/youth-group/
LOCATION:Port Ann Wesleyan Church\, 2856 Troxelville Road\, Middleburg\, Pennsylvania\, 17842\, United States
ATTACH;FMTTYPE=image/jpeg:https://www.pawchurch.com/wp-content/uploads/2023/08/PAWYouthLogoBlue.jpg
END:VEVENT
END:VCALENDAR